BEGIN:VCALENDAR
VERSION:2.0
PRODID:-//Villa Lindenhof Blaustein - ECPv6.15.12.2//NONSGML v1.0//EN
CALSCALE:GREGORIAN
METHOD:PUBLISH
X-ORIGINAL-URL:https://villa-lindenhof-blaustein.de
X-WR-CALDESC:Veranstaltungen für Villa Lindenhof Blaustein
REFRESH-INTERVAL;VALUE=DURATION:PT1H
X-Robots-Tag:noindex
X-PUBLISHED-TTL:PT1H
BEGIN:VTIMEZONE
TZID:Europe/Berlin
BEGIN:DAYLIGHT
TZOFFSETFROM:+0100
TZOFFSETTO:+0200
TZNAME:CEST
DTSTART:20210328T010000
END:DAYLIGHT
BEGIN:STANDARD
TZOFFSETFROM:+0200
TZOFFSETTO:+0100
TZNAME:CET
DTSTART:20211031T010000
END:STANDARD
BEGIN:DAYLIGHT
TZOFFSETFROM:+0100
TZOFFSETTO:+0200
TZNAME:CEST
DTSTART:20220327T010000
END:DAYLIGHT
BEGIN:STANDARD
TZOFFSETFROM:+0200
TZOFFSETTO:+0100
TZNAME:CET
DTSTART:20221030T010000
END:STANDARD
BEGIN:DAYLIGHT
TZOFFSETFROM:+0100
TZOFFSETTO:+0200
TZNAME:CEST
DTSTART:20230326T010000
END:DAYLIGHT
BEGIN:STANDARD
TZOFFSETFROM:+0200
TZOFFSETTO:+0100
TZNAME:CET
DTSTART:20231029T010000
END:STANDARD
END:VTIMEZONE
BEGIN:VEVENT
DTSTART;TZID=Europe/Berlin:20220430T180000
DTEND;TZID=Europe/Berlin:20220430T193000
DTSTAMP:20260425T011416
CREATED:20220401T111257Z
LAST-MODIFIED:20220401T111257Z
UID:619-1651341600-1651347000@villa-lindenhof-blaustein.de
SUMMARY:Vortrag und Einführung Schloss Dellmensingen 1942
DESCRIPTION:Einführung und Vortrag in die Sonderausstellung Schloss Dellmensingen und Tigerfeld 1942: Zwei jüdische Zwangsaltenheime in Württemberg \nDr. Michael Koch\, der sowohl ein Buch über das jüdische Zwangsaltenheim in Schloss Dellmensingen 1942 geschrieben hat wie auch die Ausstellung konzipeirt hat\, wird in die Sonderausstellung einführen.
URL:https://villa-lindenhof-blaustein.de/event/einfuehrung-in-die-sonderausstellung/
LOCATION:Villa Lindenhof\, Blaustein-Herrlingen\, Lindenhof 2\, 89134 Blaustein\, 89134\, Deutschland
ATTACH;FMTTYPE=image/png:https://villa-lindenhof-blaustein.de/wp-content/uploads/2022/04/0_Schlossansicht-mit-Zitat_bearb..png
END:VEVENT
END:VCALENDAR