BEGIN:VCALENDAR
VERSION:2.0
PRODID:-//Villa Lindenhof Blaustein - ECPv6.15.12.2//NONSGML v1.0//EN
CALSCALE:GREGORIAN
METHOD:PUBLISH
X-ORIGINAL-URL:https://villa-lindenhof-blaustein.de
X-WR-CALDESC:Veranstaltungen für Villa Lindenhof Blaustein
REFRESH-INTERVAL;VALUE=DURATION:PT1H
X-Robots-Tag:noindex
X-PUBLISHED-TTL:PT1H
BEGIN:VTIMEZONE
TZID:Europe/Berlin
BEGIN:DAYLIGHT
TZOFFSETFROM:+0100
TZOFFSETTO:+0200
TZNAME:CEST
DTSTART:20210328T010000
END:DAYLIGHT
BEGIN:STANDARD
TZOFFSETFROM:+0200
TZOFFSETTO:+0100
TZNAME:CET
DTSTART:20211031T010000
END:STANDARD
BEGIN:DAYLIGHT
TZOFFSETFROM:+0100
TZOFFSETTO:+0200
TZNAME:CEST
DTSTART:20220327T010000
END:DAYLIGHT
BEGIN:STANDARD
TZOFFSETFROM:+0200
TZOFFSETTO:+0100
TZNAME:CET
DTSTART:20221030T010000
END:STANDARD
BEGIN:DAYLIGHT
TZOFFSETFROM:+0100
TZOFFSETTO:+0200
TZNAME:CEST
DTSTART:20230326T010000
END:DAYLIGHT
BEGIN:STANDARD
TZOFFSETFROM:+0200
TZOFFSETTO:+0100
TZNAME:CET
DTSTART:20231029T010000
END:STANDARD
END:VTIMEZONE
BEGIN:VEVENT
DTSTART;TZID=Europe/Berlin:20220605T140000
DTEND;TZID=Europe/Berlin:20220605T140000
DTSTAMP:20260424T165823
CREATED:20220401T110646Z
LAST-MODIFIED:20220517T090544Z
UID:616-1654437600-1654437600@villa-lindenhof-blaustein.de
SUMMARY:Sonderausstellung: Schloss Dellmensingen 1942- Ein jüdisches Zwangsaltenheim
DESCRIPTION:Sonderausstellung – Schloss Dellmensingen 1942 und Tigerfeld: .\nZwei jüdische Zwangsaltenheime in Württemberg\nEin Ziel nationalsozialistischer Politik war es\, jüdisches Leben auszulöschen. Menschen wurden entwurzelt und an Orten wie den Zwangsalten-heimen konzentriert\, mit dem Ziel sie zu töten. Eines war in Herrlingen und wird in der Ausstellung „LEBENSLINIEN“ thematisiert.\nGegenstand der Sonderausstellung sind die Zwangsaltenheime in Schloss Dellmensingen und in Tigerfeld. Zumeist ältere und gebrechliche Menschen wurden umgesiedelt und dann in Konzentrationslager deportiert. Es gab fast keine Überlebenden. \nLeihgabe des Museum von Christen und Juden in Laupheim und des Psychiatriemuseums in Zwiefalten
URL:https://villa-lindenhof-blaustein.de/event/sonderausstellung/
LOCATION:Villa Lindenhof\, Blaustein-Herrlingen\, Lindenhof 2\, 89134 Blaustein\, 89134\, Deutschland
ATTACH;FMTTYPE=image/png:https://villa-lindenhof-blaustein.de/wp-content/uploads/2022/04/0_Schlossansicht-mit-Zitat_bearb..png
END:VEVENT
END:VCALENDAR